BEGIN:VCALENDAR
VERSION:2.0
CALSCALE:GREGORIAN
PRODID:adamgibbons/ics
METHOD:PUBLISH
X-PUBLISHED-TTL:PT1H
BEGIN:VEVENT
UID:1487@keepkarlsruheboring.org
SUMMARY:1. Mai Demo 2026 in Karlsruhe
DTSTAMP:20260423T122157Z
DTSTART:20260501T080000Z
URL:https://keepkarlsruheboring.org/event/1-mai-demo-2026-in-karlsruhe
GEO:49.0028;8.40113
LOCATION:Festplatz - Südweststadt\, Karlsruhe\, Baden-Württemberg\, 76137\,
	 Deutschland
STATUS:CONFIRMED
CATEGORIES:Demonstration,Workers rights
END:VEVENT
END:VCALENDAR
